{
 "currentVersion": 10.04,
 "serviceDescription": "",
 "mapName": "SEAK Hydro Streams",
 "description": "This layer depicts the authoritative Streams data for the Southeast Alaska Hydrography Database. The data is hosted at the Univeristy of Alaska Southeast and is collaboratively maintained by the US Forst Service, Tongass Nationa Forest and the Alaska Department of Fish and Game. For all questions relating to this data, please contact Mike Plivelich at mtplivelich@uas.alaska.edu.",
 "copyrightText": "USFS Tongass NF, ADF&G, and UAS",
 "layers": [
  {
   "id": 0,
   "name": "Streams",
   "parentLayerId": -1,
   "defaultVisibility": true,
   "subLayerIds": null,
   "minScale": 0,
   "maxScale": 0
  }
 ],
 "tables": [],
 "spatialReference": {
  "wkid": 26931
 },
 "singleFusedMapCache": true,
 "tileInfo": {
  "rows": 256,
  "cols": 256,
  "dpi": 96,
  "format": "PNG24",
  "compressionQuality": 0,
  "origin": {
   "x": -2.52162E7,
   "y": 2.75683E7
  },
  "spatialReference": {
   "wkid": 26931
  },
  "lods": [
   {
    "level": 0,
    "resolution": 1058.3354500042335,
    "scale": 4000000
   },
   {
    "level": 1,
    "resolution": 793.7515875031751,
    "scale": 3000000
   },
   {
    "level": 2,
    "resolution": 529.1677250021168,
    "scale": 2000000
   },
   {
    "level": 3,
    "resolution": 264.5838625010584,
    "scale": 1000000
   },
   {
    "level": 4,
    "resolution": 132.2919312505292,
    "scale": 500000
   },
   {
    "level": 5,
    "resolution": 66.1459656252646,
    "scale": 250000
   },
   {
    "level": 6,
    "resolution": 33.0729828126323,
    "scale": 125000
   },
   {
    "level": 7,
    "resolution": 16.933367200067735,
    "scale": 64000
   },
   {
    "level": 8,
    "resolution": 8.466683600033868,
    "scale": 32000
   },
   {
    "level": 9,
    "resolution": 4.233341800016934,
    "scale": 16000
   },
   {
    "level": 10,
    "resolution": 2.116670900008467,
    "scale": 8000
   }
  ]
 },
 "initialExtent": {
  "xmin": 339443.8112385788,
  "ymin": 602680.5330782386,
  "xmax": 1216970.2169249018,
  "ymax": 856884.6109159433,
  "spatialReference": {
   "wkid": 26931
  }
 },
 "fullExtent": {
  "xmin": 210521.56489999965,
  "ymin": 275725.51359999925,
  "xmax": 1089359.8836999983,
  "ymax": 1009173.6262999997,
  "spatialReference": {
   "wkid": 26931
  }
 },
 "units": "esriMeters",
 "supportedImageFormatTypes": "PNG32,PNG24,PNG,JPG,DIB,TIFF,EMF,PS,PDF,GIF,SVG,SVGZ,BMP",
 "documentInfo": {
  "Title": "SE_AK_Streams",
  "Author": "Mike Plivelich",
  "Comments": "",
  "Subject": "Stream/river features in Southeast Alaska",
  "Category": "map service",
  "Keywords": "rivers, streams, waterways, hydrography",
  "AntialiasingMode": "None",
  "TextAntialiasingMode": "Force"
 },
 "capabilities": "Map,Query,Data"
}
