View In:
ArcMap
ArcGIS Explorer
ArcGIS JavaScript
ArcGIS.com Map
Google Earth
View Footprint In:
Google Earth
Service Description:
Map Name: SEAK Hydro Streams
Legend
All Layers and Tables
Layers:
Description: This layer depicts the authoritative Streams data for the Southeast Alaska Hydrography Database. The data is hosted at the Univeristy of Alaska Southeast and is collaboratively maintained by the US Forst Service, Tongass Nationa Forest and the Alaska Department of Fish and Game. For all questions relating to this data, please contact Mike Plivelich at mtplivelich@uas.alaska.edu.
Copyright Text: USFS Tongass NF, ADF&G, and UAS
Spatial Reference:
26931
Single Fused Map Cache: true
Tile Info:
- Height: 256
- Width: 256
- DPI: 96
-
Levels of Detail: (# Levels 11)
-
Level ID: 0 [
Start Tile,
End Tile
]
Resolution: 1058.3354500042335
Scale: 4000000.0
-
Level ID: 1 [
Start Tile,
End Tile
]
Resolution: 793.7515875031751
Scale: 3000000.0
-
Level ID: 2 [
Start Tile,
End Tile
]
Resolution: 529.1677250021168
Scale: 2000000.0
-
Level ID: 3 [
Start Tile,
End Tile
]
Resolution: 264.5838625010584
Scale: 1000000.0
-
Level ID: 4 [
Start Tile,
End Tile
]
Resolution: 132.2919312505292
Scale: 500000.0
-
Level ID: 5 [
Start Tile,
End Tile
]
Resolution: 66.1459656252646
Scale: 250000.0
-
Level ID: 6 [
Start Tile,
End Tile
]
Resolution: 33.0729828126323
Scale: 125000.0
-
Level ID: 7 [
Start Tile,
End Tile
]
Resolution: 16.933367200067735
Scale: 64000.0
-
Level ID: 8 [
Start Tile,
End Tile
]
Resolution: 8.466683600033868
Scale: 32000.0
-
Level ID: 9 [
Start Tile,
End Tile
]
Resolution: 4.233341800016934
Scale: 16000.0
-
Level ID: 10 [
Start Tile,
End Tile
]
Resolution: 2.116670900008467
Scale: 8000.0
- Format: PNG24
- Compression Quality: 0
-
Origin:
X: -2.52162E7
Y: 2.75683E7
-
Spatial Reference:
26931
Initial Extent:
XMin: 339443.8112385788
YMin: 602680.5330782386
XMax: 1216970.2169249018
YMax: 856884.6109159433
Spatial Reference: 26931
Full Extent:
XMin: 210521.56489999965
YMin: 275725.51359999925
XMax: 1089359.8836999983
YMax: 1009173.6262999997
Spatial Reference: 26931
Units: esriMeters
Supported Image Format Types: PNG32,PNG24,PNG,JPG,DIB,TIFF,EMF,PS,PDF,GIF,SVG,SVGZ,BMP
Document Info:
- Title: SE_AK_Streams
- Author: Mike Plivelich
- Comments:
- Subject: Stream/river features in Southeast Alaska
- Category: map service
- Keywords: rivers, streams, waterways, hydrography
- AntialiasingMode: None
- TextAntialiasingMode: Force
Supported Interfaces:
REST
SOAP
WFS
Supported Operations:
Export Map
Identify
Find
Generate KML